View In:
ArcGIS JavaScript
ArcGIS Online Map Viewer
ArcGIS Earth
ArcMap
View Footprint In:
ArcGIS Online Map Viewer
Service Description: HOU airspace elevations raster image service. Use renderer stretch type "min-max" to aid display.
Name: HAS/HOU_AIRSPACE_TERRAIN_IMAGE
Description: HOU airspace elevations raster image service. Use renderer stretch type "min-max" to aid display.
Single Fused Map Cache: false
Extent:
XMin: 3111955.501623158
YMin: 1.375869439774976E7
XMax: 3193375.501623158
YMax: 1.384485439774976E7
Spatial Reference: 0
(0)
LatestVCSWkid(0)
Initial Extent:
XMin: 3111955.501623158
YMin: 1.375869439774976E7
XMax: 3193375.501623158
YMax: 1.384485439774976E7
Spatial Reference: 0
(0)
LatestVCSWkid(0)
Full Extent:
XMin: 3111955.501623158
YMin: 1.375869439774976E7
XMax: 3193375.501623158
YMax: 1.384485439774976E7
Spatial Reference: 0
(0)
LatestVCSWkid(0)
Pixel Size X: 15.0
Pixel Size Y: 15.0
Band Count: 1
Pixel Type: F32
RasterFunction Infos: {"rasterFunctionInfos": [{
"name": "None",
"description": "",
"help": ""
}]}
Mensuration Capabilities: Basic
Has Histograms: true
Has Colormap: false
Has Multi Dimensions : false
Rendering Rule:
Min Scale: 0
Max Scale: 0
Copyright Text:
Service Data Type: esriImageServiceDataTypeGeneric
Min Values: -4.278617858886719
Max Values: 517.1695556640625
Mean Values: 249.77575551868492
Standard Deviation Values: 105.72737357797921
Object ID Field:
Fields:
None
Default Mosaic Method: Center
Allowed Mosaic Methods:
SortField:
SortValue: null
Mosaic Operator: First
Default Compression Quality: 75
Default Resampling Method: Bilinear
Max Record Count: null
Max Image Height: 4100
Max Image Width: 15000
Max Download Image Count: null
Max Mosaic Image Count: null
Allow Raster Function: true
Allow Copy: null
Allow Analysis: null
Allow Compute TiePoints: false
Supports Statistics: false
Supports Advanced Queries: false
Use StandardizedQueries: true
Raster Type Infos:
Name: Raster Dataset
Description: Supports all ArcGIS Raster Datasets
Help:
Has Raster Attribute Table: false
Edit Fields Info: null
Ownership Based AccessControl For Rasters: null
Child Resources:
Info
Histograms
Key Properties
Legend
Raster Function Infos
Supported Operations:
Export Image
Identify
Measure
Compute Histograms
Compute Statistics Histograms
Get Samples
Compute Class Statistics
Query Boundary
Compute Pixel Location
Compute Angles
Validate
Project