{
 "currentVersion": 10.91,
 "serviceDescription": "HOU airspace elevations raster image service. Use renderer stretch type \"min-max\" to aid display.",
 "name": "HAS/HOU_AIRSPACE_TERRAIN_IMAGE",
 "description": "HOU airspace elevations raster image service. Use renderer stretch type \"min-max\" to aid display.",
 "extent": {
  "xmin": 3111955.501623158,
  "ymin": 1.375869439774976E7,
  "xmax": 3193375.501623158,
  "ymax": 1.384485439774976E7,
  "spatialReference": {
   "wkt": "PROJCS[\"NAD_1983_HARN_HOU_SURFACE\",GEOGCS[\"GCS_North_American_1983_HARN\",DATUM[\"D_North_American_1983_HARN\",SPHEROID[\"GRS_1980\",6378137.0,298.257222101]],PRIMEM[\"Greenwich\",0.0],UNIT[\"Degree\",0.0174532925199433]],PROJECTION[\"Lambert_Conformal_Conic\"],PARAMETER[\"False_Easting\",1968755.904995675],PARAMETER[\"False_Northing\",13125039.36663783],PARAMETER[\"Central_Meridian\",-99.0],PARAMETER[\"Standard_Parallel_1\",28.38333333333333],PARAMETER[\"Standard_Parallel_2\",30.28333333333333],PARAMETER[\"Scale_Factor\",1.000129999997803],PARAMETER[\"Latitude_Of_Origin\",27.83333333333333],UNIT[\"Foot_US\",0.3048006096012192]]"
  }
 },
 "initialExtent": {
  "xmin": 3111955.501623158,
  "ymin": 1.375869439774976E7,
  "xmax": 3193375.501623158,
  "ymax": 1.384485439774976E7,
  "spatialReference": {
   "wkt": "PROJCS[\"NAD_1983_HARN_HOU_SURFACE\",GEOGCS[\"GCS_North_American_1983_HARN\",DATUM[\"D_North_American_1983_HARN\",SPHEROID[\"GRS_1980\",6378137.0,298.257222101]],PRIMEM[\"Greenwich\",0.0],UNIT[\"Degree\",0.0174532925199433]],PROJECTION[\"Lambert_Conformal_Conic\"],PARAMETER[\"False_Easting\",1968755.904995675],PARAMETER[\"False_Northing\",13125039.36663783],PARAMETER[\"Central_Meridian\",-99.0],PARAMETER[\"Standard_Parallel_1\",28.38333333333333],PARAMETER[\"Standard_Parallel_2\",30.28333333333333],PARAMETER[\"Scale_Factor\",1.000129999997803],PARAMETER[\"Latitude_Of_Origin\",27.83333333333333],UNIT[\"Foot_US\",0.3048006096012192]]"
  }
 },
 "fullExtent": {
  "xmin": 3111955.501623158,
  "ymin": 1.375869439774976E7,
  "xmax": 3193375.501623158,
  "ymax": 1.384485439774976E7,
  "spatialReference": {
   "wkt": "PROJCS[\"NAD_1983_HARN_HOU_SURFACE\",GEOGCS[\"GCS_North_American_1983_HARN\",DATUM[\"D_North_American_1983_HARN\",SPHEROID[\"GRS_1980\",6378137.0,298.257222101]],PRIMEM[\"Greenwich\",0.0],UNIT[\"Degree\",0.0174532925199433]],PROJECTION[\"Lambert_Conformal_Conic\"],PARAMETER[\"False_Easting\",1968755.904995675],PARAMETER[\"False_Northing\",13125039.36663783],PARAMETER[\"Central_Meridian\",-99.0],PARAMETER[\"Standard_Parallel_1\",28.38333333333333],PARAMETER[\"Standard_Parallel_2\",30.28333333333333],PARAMETER[\"Scale_Factor\",1.000129999997803],PARAMETER[\"Latitude_Of_Origin\",27.83333333333333],UNIT[\"Foot_US\",0.3048006096012192]]"
  }
 },
 "pixelSizeX": 15,
 "pixelSizeY": 15,
 "bandCount": 1,
 "pixelType": "F32",
 "minPixelSize": 0,
 "maxPixelSize": 0,
 "copyrightText": "",
 "serviceDataType": "esriImageServiceDataTypeGeneric",
 "minValues": [
  -4.278617858886719
 ],
 "maxValues": [
  517.1695556640625
 ],
 "meanValues": [
  249.77575551868492
 ],
 "stdvValues": [
  105.72737357797921
 ],
 "objectIdField": "",
 "fields": [],
 "capabilities": "Mensuration,Image,Metadata",
 "defaultMosaicMethod": "Center",
 "allowedMosaicMethods": "",
 "sortField": "",
 "sortValue": null,
 "sortAscending": true,
 "mosaicOperator": "First",
 "defaultCompressionQuality": 75,
 "defaultResamplingMethod": "Bilinear",
 "maxImageHeight": 4100,
 "maxImageWidth": 15000,
 "allowRasterFunction": true,
 "rasterFunctionInfos": [
  {
   "name": "None",
   "description": "",
   "help": ""
  }
 ],
 "rasterTypeInfos": [
  {
   "name": "Raster Dataset",
   "description": "Supports all ArcGIS Raster Datasets",
   "help": ""
  }
 ],
 "mensurationCapabilities": "Basic",
 "hasHistograms": true,
 "hasColormap": false,
 "hasRasterAttributeTable": false,
 "minScale": 0,
 "maxScale": 0,
 "exportTilesAllowed": false,
 "hasMultidimensions": false,
 "supportsStatistics": false,
 "supportsAdvancedQueries": false,
 "editFieldsInfo": null,
 "ownershipBasedAccessControlForRasters": null,
 "allowComputeTiePoints": false,
 "useStandardizedQueries": true,
 "advancedQueryCapabilities": {
  "useStandardizedQueries": true,
  "supportsStatistics": false,
  "supportsOrderBy": false,
  "supportsDistinct": false,
  "supportsPagination": false
 },
 "spatialReference": {
  "wkt": "PROJCS[\"NAD_1983_HARN_HOU_SURFACE\",GEOGCS[\"GCS_North_American_1983_HARN\",DATUM[\"D_North_American_1983_HARN\",SPHEROID[\"GRS_1980\",6378137.0,298.257222101]],PRIMEM[\"Greenwich\",0.0],UNIT[\"Degree\",0.0174532925199433]],PROJECTION[\"Lambert_Conformal_Conic\"],PARAMETER[\"False_Easting\",1968755.904995675],PARAMETER[\"False_Northing\",13125039.36663783],PARAMETER[\"Central_Meridian\",-99.0],PARAMETER[\"Standard_Parallel_1\",28.38333333333333],PARAMETER[\"Standard_Parallel_2\",30.28333333333333],PARAMETER[\"Scale_Factor\",1.000129999997803],PARAMETER[\"Latitude_Of_Origin\",27.83333333333333],UNIT[\"Foot_US\",0.3048006096012192]]"
 }
}
