{
 "currentVersion": 10.91,
 "serviceDescription": "IAH airspace elevations raster image service. Use renderer stretch type \"min-max\" to aid display.",
 "name": "HAS/IAH_AIRSPACE_TERRAIN_IMAGE",
 "description": "IAH airspace elevations raster image service. Use renderer stretch type \"min-max\" to aid display.",
 "extent": {
  "xmin": 3081921.4073798275,
  "ymin": 1.3882886420914372E7,
  "xmax": 3172986.4073798275,
  "ymax": 1.3964801420914372E7,
  "spatialReference": {
   "wkt": "PROJCS[\"NAD_1983_HARN_Lambert_Conformal_Conic\",GEOGCS[\"GCS_North_American_1983_HARN\",DATUM[\"D_North_American_1983_HARN\",SPHEROID[\"GRS_1980\",6378137.0,298.257222101]],PRIMEM[\"Greenwich\",0.0],UNIT[\"Degree\",0.0174532925199433]],PROJECTION[\"Lambert_Conformal_Conic\"],PARAMETER[\"False_Easting\",1968650.372045429],PARAMETER[\"False_Northing\",13124335.8136362],PARAMETER[\"Central_Meridian\",-99.0],PARAMETER[\"Standard_Parallel_1\",28.70294581277778],PARAMETER[\"Standard_Parallel_2\",29.96540257361111],PARAMETER[\"Latitude_Of_Origin\",27.83333333333333],UNIT[\"Foot_US\",0.3048006096012192]]"
  }
 },
 "initialExtent": {
  "xmin": 3081921.4073798275,
  "ymin": 1.3882886420914372E7,
  "xmax": 3172986.4073798275,
  "ymax": 1.3964801420914372E7,
  "spatialReference": {
   "wkt": "PROJCS[\"NAD_1983_HARN_Lambert_Conformal_Conic\",GEOGCS[\"GCS_North_American_1983_HARN\",DATUM[\"D_North_American_1983_HARN\",SPHEROID[\"GRS_1980\",6378137.0,298.257222101]],PRIMEM[\"Greenwich\",0.0],UNIT[\"Degree\",0.0174532925199433]],PROJECTION[\"Lambert_Conformal_Conic\"],PARAMETER[\"False_Easting\",1968650.372045429],PARAMETER[\"False_Northing\",13124335.8136362],PARAMETER[\"Central_Meridian\",-99.0],PARAMETER[\"Standard_Parallel_1\",28.70294581277778],PARAMETER[\"Standard_Parallel_2\",29.96540257361111],PARAMETER[\"Latitude_Of_Origin\",27.83333333333333],UNIT[\"Foot_US\",0.3048006096012192]]"
  }
 },
 "fullExtent": {
  "xmin": 3081921.4073798275,
  "ymin": 1.3882886420914372E7,
  "xmax": 3172986.4073798275,
  "ymax": 1.3964801420914372E7,
  "spatialReference": {
   "wkt": "PROJCS[\"NAD_1983_HARN_Lambert_Conformal_Conic\",GEOGCS[\"GCS_North_American_1983_HARN\",DATUM[\"D_North_American_1983_HARN\",SPHEROID[\"GRS_1980\",6378137.0,298.257222101]],PRIMEM[\"Greenwich\",0.0],UNIT[\"Degree\",0.0174532925199433]],PROJECTION[\"Lambert_Conformal_Conic\"],PARAMETER[\"False_Easting\",1968650.372045429],PARAMETER[\"False_Northing\",13124335.8136362],PARAMETER[\"Central_Meridian\",-99.0],PARAMETER[\"Standard_Parallel_1\",28.70294581277778],PARAMETER[\"Standard_Parallel_2\",29.96540257361111],PARAMETER[\"Latitude_Of_Origin\",27.83333333333333],UNIT[\"Foot_US\",0.3048006096012192]]"
  }
 },
 "pixelSizeX": 15,
 "pixelSizeY": 15,
 "bandCount": 1,
 "pixelType": "F32",
 "minPixelSize": 0,
 "maxPixelSize": 0,
 "copyrightText": "",
 "serviceDataType": "esriImageServiceDataTypeGeneric",
 "minValues": [
  -5.221595764160156
 ],
 "maxValues": [
  540.4022216796875
 ],
 "meanValues": [
  223.67902223797188
 ],
 "stdvValues": [
  103.9097776353381
 ],
 "objectIdField": "",
 "fields": [],
 "capabilities": "Mensuration,Image,Metadata",
 "defaultMosaicMethod": "Center",
 "allowedMosaicMethods": "",
 "sortField": "",
 "sortValue": null,
 "sortAscending": true,
 "mosaicOperator": "First",
 "defaultCompressionQuality": 75,
 "defaultResamplingMethod": "Bilinear",
 "maxImageHeight": 4100,
 "maxImageWidth": 15000,
 "allowRasterFunction": true,
 "rasterFunctionInfos": [
  {
   "name": "None",
   "description": "",
   "help": ""
  }
 ],
 "rasterTypeInfos": [
  {
   "name": "Raster Dataset",
   "description": "Supports all ArcGIS Raster Datasets",
   "help": ""
  }
 ],
 "mensurationCapabilities": "Basic",
 "hasHistograms": true,
 "hasColormap": false,
 "hasRasterAttributeTable": false,
 "minScale": 0,
 "maxScale": 0,
 "exportTilesAllowed": false,
 "hasMultidimensions": false,
 "supportsStatistics": false,
 "supportsAdvancedQueries": false,
 "editFieldsInfo": null,
 "ownershipBasedAccessControlForRasters": null,
 "allowComputeTiePoints": false,
 "useStandardizedQueries": true,
 "advancedQueryCapabilities": {
  "useStandardizedQueries": true,
  "supportsStatistics": false,
  "supportsOrderBy": false,
  "supportsDistinct": false,
  "supportsPagination": false
 },
 "spatialReference": {
  "wkt": "PROJCS[\"NAD_1983_HARN_Lambert_Conformal_Conic\",GEOGCS[\"GCS_North_American_1983_HARN\",DATUM[\"D_North_American_1983_HARN\",SPHEROID[\"GRS_1980\",6378137.0,298.257222101]],PRIMEM[\"Greenwich\",0.0],UNIT[\"Degree\",0.0174532925199433]],PROJECTION[\"Lambert_Conformal_Conic\"],PARAMETER[\"False_Easting\",1968650.372045429],PARAMETER[\"False_Northing\",13124335.8136362],PARAMETER[\"Central_Meridian\",-99.0],PARAMETER[\"Standard_Parallel_1\",28.70294581277778],PARAMETER[\"Standard_Parallel_2\",29.96540257361111],PARAMETER[\"Latitude_Of_Origin\",27.83333333333333],UNIT[\"Foot_US\",0.3048006096012192]]"
 }
}
