<?xml version="1.0" encoding="UTF-8" standalone="no"?>
<metadata xml:lang="en">
  <Esri>
    <MetaID>{A7ABAAD0-3010-4D6A-9E4C-82E7BA4154D9}</MetaID>
    <CreaDate>20101014</CreaDate>
    <CreaTime>14342400</CreaTime>
    <SyncOnce>FALSE</SyncOnce>
    <SyncDate>20101014</SyncDate>
    <SyncTime>14350800</SyncTime>
    <ModDate>20101014</ModDate>
    <ModTime>14350800</ModTime>
  </Esri>
  <idinfo>
    <native Sync="FALSE">ESRI ArcCatalog 9.3.1.3000</native>
    <descript>
      <langdata Sync="TRUE">en</langdata>
      <abstract>REQUIRED: A brief narrative summary of the data set.</abstract>
      <purpose>REQUIRED: A summary of the intentions with which the data set was developed.</purpose>
    </descript>
    <citation>
      <citeinfo>
        <origin>REQUIRED: The name of an organization or individual that developed the data set.</origin>
        <pubdate>REQUIRED: The date when the data set is published or otherwise made available for release.</pubdate>
        <title Sync="TRUE">pd_apps.HASAPP.HOU_Airspace_Terrain</title>
        <ftname Sync="TRUE">pd_apps.HASAPP.HOU_Airspace_Terrain</ftname>
        <geoform Sync="TRUE">SDE raster digital data</geoform>
        <onlink Sync="FALSE">withheld</onlink>
      </citeinfo>
    </citation>
    <timeperd>
      <current>REQUIRED: The basis on which the time period of content information is determined.</current>
      <timeinfo>
        <sngdate>
          <caldate>REQUIRED: The year (and optionally month, or month and day) for which the data set corresponds to the ground.</caldate>
        </sngdate>
      </timeinfo>
    </timeperd>
    <status>
      <progress>REQUIRED: The state of the data set.</progress>
      <update>REQUIRED: The frequency with which changes and additions are made to the data set after the initial data set is completed.</update>
    </status>
    <spdom>
      <bounding>
        <westbc Sync="TRUE">-95.404963</westbc>
        <eastbc Sync="TRUE">-95.140160</eastbc>
        <northbc Sync="TRUE">29.764299</northbc>
        <southbc Sync="TRUE">29.520368</southbc>
      </bounding>
      <lboundng>
        <leftbc Sync="TRUE">3111955.501623</leftbc>
        <rightbc Sync="TRUE">3193375.501623</rightbc>
        <bottombc Sync="TRUE">13758694.397750</bottombc>
        <topbc Sync="TRUE">13844854.397750</topbc>
      </lboundng>
    </spdom>
    <keywords>
      <theme>
        <themekt>REQUIRED: Reference to a formally registered thesaurus or a similar authoritative source of theme keywords.</themekt>
        <themekey>REQUIRED: Common-use word or phrase used to describe the subject of the data set.</themekey>
      </theme>
    </keywords>
    <accconst>REQUIRED: Restrictions and legal prerequisites for accessing the data set.</accconst>
    <useconst>REQUIRED: Restrictions and legal prerequisites for using the data set after access is granted.</useconst>
    <natvform Sync="FALSE">Raster Dataset</natvform>
  </idinfo>
  <dataIdInfo>
    <envirDesc Sync="FALSE">ESRI ArcCatalog 9.3.1.3000</envirDesc>
    <dataLang>
      <languageCode Sync="TRUE" value="en">
</languageCode>
    </dataLang>
    <idCitation>
      <resTitle Sync="TRUE">pd_apps.HASAPP.HOU_Airspace_Terrain</resTitle>
      <presForm>
        <PresFormCd Sync="TRUE" value="005">
</PresFormCd>
      </presForm>
    </idCitation>
    <spatRpType>
      <SpatRepTypCd Sync="TRUE" value="002">
</SpatRepTypCd>
    </spatRpType>
    <dataExt>
      <geoEle>
        <GeoBndBox esriExtentType="native">
          <westBL Sync="TRUE">3111955.501623</westBL>
          <eastBL Sync="TRUE">3193375.501623</eastBL>
          <northBL Sync="TRUE">13844854.39775</northBL>
          <southBL Sync="TRUE">13758694.39775</southBL>
          <exTypeCode Sync="TRUE">1</exTypeCode>
        </GeoBndBox>
      </geoEle>
    </dataExt>
    <geoBox esriExtentType="decdegrees">
      <westBL Sync="TRUE">-95.404963</westBL>
      <eastBL Sync="TRUE">-95.14016</eastBL>
      <northBL Sync="TRUE">29.764299</northBL>
      <southBL Sync="TRUE">29.520368</southBL>
      <exTypeCode Sync="TRUE">1</exTypeCode>
    </geoBox>
    <idAbs>HOU airspace elevations raster image service. Use renderer stretch type "min-max" to aid display.</idAbs>
    <searchKeys>
      <keyword>HOU</keyword>
      <keyword>raster</keyword>
      <keyword>elevation</keyword>
      <keyword>image</keyword>
    </searchKeys>
    <idPurp>HOU airspace elevations raster image service. Use renderer stretch type "min-max" to aid display.</idPurp>
    <idCredit/>
    <resConst>
      <Consts>
        <useLimit/>
      </Consts>
    </resConst>
  </dataIdInfo>
  <metainfo>
    <langmeta Sync="TRUE">en</langmeta>
    <metstdn Sync="TRUE">FGDC Content Standards for Digital Geospatial Metadata</metstdn>
    <metstdv Sync="TRUE">FGDC-STD-001-1998</metstdv>
    <mettc Sync="TRUE">local time</mettc>
    <metc>
      <cntinfo>
        <cntorgp>
          <cntper>REQUIRED: The person responsible for the metadata information.</cntper>
          <cntorg>REQUIRED: The organization responsible for the metadata information.</cntorg>
        </cntorgp>
        <cntaddr>
          <addrtype>REQUIRED: The mailing and/or physical address for the organization or individual.</addrtype>
          <city>REQUIRED: The city of the address.</city>
          <state>REQUIRED: The state or province of the address.</state>
          <postal>REQUIRED: The ZIP or other postal code of the address.</postal>
        </cntaddr>
        <cntvoice>REQUIRED: The telephone number by which individuals can speak to the organization or individual.</cntvoice>
      </cntinfo>
    </metc>
    <metd Sync="TRUE">20101014</metd>
    <metextns>
      <onlink Sync="TRUE">http://www.esri.com/metadata/esriprof80.html</onlink>
      <metprof Sync="TRUE">ESRI Metadata Profile</metprof>
    </metextns>
  </metainfo>
  <mdLang>
    <languageCode Sync="TRUE" value="en">
</languageCode>
  </mdLang>
  <mdStanName Sync="TRUE">ISO 19115 Geographic Information - Metadata</mdStanName>
  <mdStanVer Sync="TRUE">DIS_ESRI1.0</mdStanVer>
  <mdChar>
    <CharSetCd Sync="TRUE" value="004">
</CharSetCd>
  </mdChar>
  <mdHrLv>
    <ScopeCd Sync="TRUE" value="005">
</ScopeCd>
  </mdHrLv>
  <mdHrLvName Sync="TRUE">dataset</mdHrLvName>
  <distinfo>
    <resdesc Sync="TRUE">Downloadable Data</resdesc>
  </distinfo>
  <distInfo>
    <distributor>
      <distorTran>
        <onLineSrc>
          <orDesc Sync="TRUE">002</orDesc>
          <linkage Sync="FALSE">withheld</linkage>
          <protocol Sync="TRUE">Local Area Network</protocol>
        </onLineSrc>
      </distorTran>
      <distorFormat>
        <formatName Sync="FALSE">Raster Dataset</formatName>
      </distorFormat>
    </distributor>
  </distInfo>
  <spdoinfo>
    <direct Sync="TRUE">Raster</direct>
    <rastinfo>
      <rasttype Sync="TRUE">Pixel</rasttype>
      <rowcount Sync="TRUE">5744</rowcount>
      <colcount Sync="TRUE">5428</colcount>
      <rastxsz Sync="TRUE">15.000000</rastxsz>
      <rastysz Sync="TRUE">15.000000</rastysz>
      <rastbpp Sync="TRUE">32</rastbpp>
      <vrtcount Sync="TRUE">1</vrtcount>
      <rastorig Sync="TRUE">Upper Left</rastorig>
      <rastcmap Sync="TRUE">FALSE</rastcmap>
      <rastcomp Sync="TRUE">NONE</rastcomp>
      <rastband Sync="TRUE">1</rastband>
      <rastdtyp Sync="TRUE">pixel codes</rastdtyp>
      <rastifor Sync="TRUE">SDR</rastifor>
      <rastplyr Sync="TRUE">TRUE</rastplyr>
    </rastinfo>
  </spdoinfo>
  <spref>
    <horizsys>
      <cordsysn>
        <geogcsn Sync="TRUE">GCS_North_American_1983_HARN</geogcsn>
        <projcsn Sync="TRUE">NAD_1983_HARN_HOU_SURFACE</projcsn>
      </cordsysn>
      <planar>
        <planci>
          <plance Sync="TRUE">row and column</plance>
          <plandu Sync="TRUE">survey feet</plandu>
          <coordrep>
            <absres Sync="TRUE">15.000000</absres>
            <ordres Sync="TRUE">15.000000</ordres>
          </coordrep>
        </planci>
        <mapproj>
          <mapprojn Sync="TRUE">Lambert Conformal Conic</mapprojn>
          <lambertc>
            <stdparll Sync="TRUE">28.383333</stdparll>
            <stdparll Sync="TRUE">30.283333</stdparll>
            <longcm Sync="TRUE">-99.000000</longcm>
            <latprjo Sync="TRUE">27.833333</latprjo>
            <feast Sync="TRUE">1968755.904996</feast>
            <fnorth Sync="TRUE">13125039.366638</fnorth>
          </lambertc>
        </mapproj>
      </planar>
      <geodetic>
        <horizdn Sync="TRUE">D_North_American_1983_HARN</horizdn>
        <ellips Sync="TRUE">Geodetic Reference System 80</ellips>
        <semiaxis Sync="TRUE">6378137.000000</semiaxis>
        <denflat Sync="TRUE">298.257222</denflat>
      </geodetic>
    </horizsys>
  </spref>
  <refSysInfo>
    <RefSystem>
      <refSysID>
        <identCode Sync="TRUE">NAD_1983_HARN_HOU_SURFACE</identCode>
      </refSysID>
    </RefSystem>
  </refSysInfo>
  <mdDateSt Sync="TRUE">20101014</mdDateSt>
  </metadata>
