{
 "currentVersion": 10.91,
 "serviceDescription": "EFD airspace elevations raster image service. Use renderer stretch type \"min-max\" to aid display.",
 "name": "HAS/EFD_AIRSPACE_TERRAIN_IMAGE",
 "description": "EFD airspace elevations raster image service. Use renderer stretch type \"min-max\" to aid display.",
 "extent": {
  "xmin": 3156953.3536768253,
  "ymin": 13736401,
  "xmax": 3220988.3536768253,
  "ymax": 13825066,
  "spatialReference": {
   "wkid": 102740,
   "latestWkid": 2278
  }
 },
 "initialExtent": {
  "xmin": 3156953.3536768253,
  "ymin": 13736401,
  "xmax": 3220988.3536768253,
  "ymax": 13825066,
  "spatialReference": {
   "wkid": 102740,
   "latestWkid": 2278
  }
 },
 "fullExtent": {
  "xmin": 3156953.3536768253,
  "ymin": 13736401,
  "xmax": 3220988.3536768253,
  "ymax": 13825066,
  "spatialReference": {
   "wkid": 102740,
   "latestWkid": 2278
  }
 },
 "pixelSizeX": 15,
 "pixelSizeY": 15,
 "bandCount": 1,
 "pixelType": "F32",
 "minPixelSize": 0,
 "maxPixelSize": 0,
 "copyrightText": "",
 "serviceDataType": "esriImageServiceDataTypeGeneric",
 "minValues": [
  -7.818336486816406
 ],
 "maxValues": [
  652.5864868164062
 ],
 "meanValues": [
  237.42488516446312
 ],
 "stdvValues": [
  85.84689059843187
 ],
 "objectIdField": "",
 "fields": [],
 "capabilities": "Mensuration,Image,Metadata",
 "defaultMosaicMethod": "Center",
 "allowedMosaicMethods": "",
 "sortField": "",
 "sortValue": null,
 "sortAscending": true,
 "mosaicOperator": "First",
 "defaultCompressionQuality": 75,
 "defaultResamplingMethod": "Bilinear",
 "maxImageHeight": 4100,
 "maxImageWidth": 15000,
 "allowRasterFunction": true,
 "rasterFunctionInfos": [
  {
   "name": "None",
   "description": "",
   "help": ""
  }
 ],
 "rasterTypeInfos": [
  {
   "name": "Raster Dataset",
   "description": "Supports all ArcGIS Raster Datasets",
   "help": ""
  }
 ],
 "mensurationCapabilities": "Basic",
 "hasHistograms": true,
 "hasColormap": false,
 "hasRasterAttributeTable": false,
 "minScale": 0,
 "maxScale": 0,
 "exportTilesAllowed": false,
 "hasMultidimensions": false,
 "supportsStatistics": false,
 "supportsAdvancedQueries": false,
 "editFieldsInfo": null,
 "ownershipBasedAccessControlForRasters": null,
 "allowComputeTiePoints": false,
 "useStandardizedQueries": true,
 "advancedQueryCapabilities": {
  "useStandardizedQueries": true,
  "supportsStatistics": false,
  "supportsOrderBy": false,
  "supportsDistinct": false,
  "supportsPagination": false
 },
 "spatialReference": {
  "wkid": 102740,
  "latestWkid": 2278
 }
}
